BEGIN:VCALENDAR
VERSION:2.0
PRODID:-//Plone.org//NONSGML plone.app.event//EN
X-WR-TIMEZONE:Brazil/East
BEGIN:VEVENT
SUMMARY:16.ª Sessão Ordinária
DTSTART;TZID=Brazil/East;VALUE=DATE-TIME:20181018T200000
DTEND;TZID=Brazil/East;VALUE=DATE-TIME:20181018T235900
DTSTAMP;VALUE=DATE-TIME:20260424T201449Z
UID:5f6141bea0754c0292de2d764c81f52d@saojosedobarreiro.sp.leg.br
CONTACT:(12) 3117-1311\, contato@camarasjb.sp.gov.br\, http://www.saojosed
 obarreiro.sp.leg.br/institucional/sessao-ao-vivo
CREATED;VALUE=DATE-TIME:20180307T143704Z
LAST-MODIFIED;VALUE=DATE-TIME:20180307T143710Z
URL:https://www.saojosedobarreiro.sp.leg.br/institucional/eventos/16-a-ses
 sao-ordinaria-1
END:VEVENT
BEGIN:VTIMEZONE
TZID:Brazil/East
X-LIC-LOCATION:Brazil/East
BEGIN:STANDARD
DTSTART;VALUE=DATE-TIME:20180217T230000
TZNAME:BRT
TZOFFSETFROM:-0200
TZOFFSETTO:-0300
END:STANDARD
END:VTIMEZONE
END:VCALENDAR
