BEGIN:VCALENDAR
VERSION:2.0
PRODID:-//Plone.org//NONSGML plone.app.event//EN
X-WR-TIMEZONE:Brazil/East
BEGIN:VEVENT
SUMMARY:15.ª Sessão Ordinária
DTSTART;TZID=Brazil/East;VALUE=DATE-TIME:20181004T200000
DTEND;TZID=Brazil/East;VALUE=DATE-TIME:20181004T235900
DTSTAMP;VALUE=DATE-TIME:20260424T201444Z
UID:e553577635e144f2a3c0d40626b4446e@saojosedobarreiro.sp.leg.br
CONTACT:(12) 3117-1311\, contato@camarasjb.sp.gov.br\, http://www.saojosed
 obarreiro.sp.leg.br/institucional/sessao-ao-vivo
CREATED;VALUE=DATE-TIME:20180307T143541Z
LAST-MODIFIED;VALUE=DATE-TIME:20180307T143546Z
URL:https://www.saojosedobarreiro.sp.leg.br/institucional/eventos/15-a-ses
 sao-ordinaria-1
END:VEVENT
BEGIN:VTIMEZONE
TZID:Brazil/East
X-LIC-LOCATION:Brazil/East
BEGIN:STANDARD
DTSTART;VALUE=DATE-TIME:20180217T230000
TZNAME:BRT
TZOFFSETFROM:-0200
TZOFFSETTO:-0300
END:STANDARD
END:VTIMEZONE
END:VCALENDAR
