BEGIN:VCALENDAR
VERSION:2.0
PRODID:-//Plone.org//NONSGML plone.app.event//EN
X-WR-TIMEZONE:Brazil/East
BEGIN:VEVENT
SUMMARY:07.ª Sessão Extraordinária
DTSTART;TZID=Brazil/East;VALUE=DATE-TIME:20191031T200000
DTEND;TZID=Brazil/East;VALUE=DATE-TIME:20191031T220000
DTSTAMP;VALUE=DATE-TIME:20260423T163322Z
UID:3da62858d1fa4b1ab1abe19f01c54d64@www.saojosedobarreiro.sp.leg.br
CONTACT:(12) 3117-1311\, contato@camarasjb.sp.gov.br\, https://www.saojose
 dobarreiro.sp.leg.br/institucional/sessao-ao-vivo
CREATED;VALUE=DATE-TIME:20191031T203843Z
LAST-MODIFIED;VALUE=DATE-TIME:20191031T203902Z
URL:https://www.saojosedobarreiro.sp.leg.br/institucional/eventos/07-a-ses
 sao-extraordinaria-1
END:VEVENT
BEGIN:VTIMEZONE
TZID:Brazil/East
X-LIC-LOCATION:Brazil/East
BEGIN:DAYLIGHT
DTSTART;VALUE=DATE-TIME:20191020T010000
TZNAME:BRST
TZOFFSETFROM:-0300
TZOFFSETTO:-0200
END:DAYLIGHT
END:VTIMEZONE
END:VCALENDAR
